BEGIN:VCALENDAR
VERSION:2.0
PRODID:icalendar-ruby
CALSCALE:GREGORIAN
METHOD:PUBLISH
BEGIN:VEVENT
DTSTAMP:20260424T055358Z
UID:124-175743@spiritalivechurch.com
DTSTART:20261018T154500Z
DTEND:20261018T164500Z
CLASS:PUBLIC
CREATED:20260423T212122
DESCRIPTION:
LAST-MODIFIED:20260423T212122
LOCATION:
SUMMARY:Worship
URL;VALUE=URI:https://spiritalivechurch.com/events/worship--124/2026-10-18
END:VEVENT
END:VCALENDAR
